BEGIN:VCALENDAR
VERSION:2.0
PRODID:-//veteransclubinc.org//NONSGML kigkonsult.se iCalcreator 2.30.10//
CALSCALE:GREGORIAN
METHOD:PUBLISH
UID:1cd84232-d5f1-43e5-a8af-2aec497c8b84
X-WR-CALDESC:Coffee & Camaraderie - Come join us for a cup of Black Rifle C
 offee and some great conversation. Open to all Veterans\, Active Service M
 embers and First Responders.
X-WR-RELCALID:8c08f73bb04f935fd05ff1a7dfe1290d
X-WR-TIMEZONE:America/New_York
BEGIN:VTIMEZONE
TZID:America/New_York
BEGIN:STANDARD
TZNAME:EST
DTSTART:20261101T020000
TZOFFSETFROM:-0400
TZOFFSETTO:-0500
RDATE:20271107T020000
RDATE:20281105T020000
END:STANDARD
BEGIN:DAYLIGHT
TZNAME:EDT
DTSTART:20270314T020000
TZOFFSETFROM:-0500
TZOFFSETTO:-0400
RDATE:20280312T020000
RDATE:20290311T020000
END:DAYLIGHT
END:VTIMEZONE
BEGIN:VEVENT
UID:9ad2debd-f252-4d5a-be85-b725773981a3
DTSTAMP:20260422T070558Z
DESCRIPTION:Coffee & Camaraderie - Come join us for a cup of Black Rifle Co
 ffee and some great conversation. Open to all Veterans\, Active Service Me
 mbers and First Responders.
DTSTART;TZID=America/New_York:20271021T090000
DTEND;TZID=America/New_York:20271021T103000
LOCATION:4218 Shelbyville Road\, Louisville\, KY 40207 US
SUMMARY:Coffee and Camaraderie
END:VEVENT
END:VCALENDAR
