BEGIN:VCALENDAR
VERSION:2.0
PRODID:-//veteransclubinc.org//NONSGML kigkonsult.se iCalcreator 2.30.10//
CALSCALE:GREGORIAN
METHOD:PUBLISH
UID:2c45a5a7-060e-442c-909a-daad6abbc3a5
X-WR-CALDESC:Coffee & Camaraderie - Come join us for a cup of Black Rifle C
 offee and some great conversation. Open to all Veterans\, Active Service M
 embers and First Responders.
X-WR-RELCALID:51156e2173886c6e700343d23cecb249
X-WR-TIMEZONE:America/New_York
BEGIN:VTIMEZONE
TZID:America/New_York
BEGIN:STANDARD
TZNAME:EST
DTSTART:20261101T020000
TZOFFSETFROM:-0400
TZOFFSETTO:-0500
RDATE:20271107T020000
END:STANDARD
BEGIN:DAYLIGHT
TZNAME:EDT
DTSTART:20260308T020000
TZOFFSETFROM:-0500
TZOFFSETTO:-0400
RDATE:20270314T020000
RDATE:20280312T020000
END:DAYLIGHT
END:VTIMEZONE
BEGIN:VEVENT
UID:7dd57c6c-a31d-4079-93c0-469246cadde7
DTSTAMP:20260421T150615Z
DESCRIPTION:Coffee & Camaraderie - Come join us for a cup of Black Rifle Co
 ffee and some great conversation. Open to all Veterans\, Active Service Me
 mbers and First Responders.
DTSTART;TZID=America/New_York:20270121T090000
DTEND;TZID=America/New_York:20270121T103000
LOCATION:4218 Shelbyville Road\, Louisville\, KY 40207 US
SUMMARY:Coffee and Camaraderie
END:VEVENT
END:VCALENDAR
