BEGIN:VCALENDAR
VERSION:2.0
PRODID:-//veteransclubinc.org//NONSGML kigkonsult.se iCalcreator 2.30.10//
CALSCALE:GREGORIAN
METHOD:PUBLISH
UID:45eb2e9a-44fd-4079-a79f-f52c87a6e434
X-WR-CALDESC:Coffee & Camaraderie - Come join us for a cup of Black Rifle C
 offee and some great conversation. Open to all Veterans\, Active Service M
 embers and First Responders.
X-WR-RELCALID:cd2e28aa3ec416547b54ef8874048a74
X-WR-TIMEZONE:America/New_York
BEGIN:VTIMEZONE
TZID:America/New_York
BEGIN:STANDARD
TZNAME:EST
DTSTART:20251102T020000
TZOFFSETFROM:-0400
TZOFFSETTO:-0500
RDATE:20261101T020000
END:STANDARD
BEGIN:DAYLIGHT
TZNAME:EDT
DTSTART:20250309T020000
TZOFFSETFROM:-0500
TZOFFSETTO:-0400
RDATE:20260308T020000
RDATE:20270314T020000
END:DAYLIGHT
END:VTIMEZONE
BEGIN:VEVENT
UID:cb16a2a3-f0ca-4a9f-ab5a-3c7e36987fd5
DTSTAMP:20260421T083403Z
DESCRIPTION:Coffee & Camaraderie - Come join us for a cup of Black Rifle Co
 ffee and some great conversation. Open to all Veterans\, Active Service Me
 mbers and First Responders.
DTSTART;TZID=America/New_York:20260115T090000
DTEND;TZID=America/New_York:20260115T103000
LOCATION:4218 Shelbyville Road\, Louisville\, KY 40207 US
SUMMARY:Coffee and Camaraderie
END:VEVENT
END:VCALENDAR
