BEGIN:VCALENDAR
VERSION:2.0
PRODID:-//veteransclubinc.org//NONSGML kigkonsult.se iCalcreator 2.30.10//
CALSCALE:GREGORIAN
METHOD:PUBLISH
UID:eabfadbf-3e50-4f1b-a942-50aefa0ba031
X-WR-CALDESC:Join us on Saturday November 22nd for our nationally recognize
 d Equine Facilitated Mentoring Program. This program is an opportunity to 
 connect\, practice self-care\, learn basic horsemanship\, and to be equipp
 ed with healthy strategies to work through challenges we face in life. Lun
 ch is provided and there is no cost to attend. \n \nRSVP - send email to i
 nfo@veteransclubinc.org.
X-WR-RELCALID:e646dab1dc40bcb2f766674f485b53eb
X-WR-TIMEZONE:America/New_York
BEGIN:VTIMEZONE
TZID:America/New_York
BEGIN:STANDARD
TZNAME:EST
DTSTART:20251102T020000
TZOFFSETFROM:-0400
TZOFFSETTO:-0500
RDATE:20261101T020000
END:STANDARD
BEGIN:DAYLIGHT
TZNAME:EDT
DTSTART:20250309T020000
TZOFFSETFROM:-0500
TZOFFSETTO:-0400
RDATE:20260308T020000
RDATE:20270314T020000
END:DAYLIGHT
END:VTIMEZONE
BEGIN:VEVENT
UID:0900e43f-1e7e-4f35-9df9-3ca7b5540fe5
DTSTAMP:20260421T094909Z
DESCRIPTION:Join us on Saturday November 22nd for our nationally recognized
  Equine Facilitated Mentoring Program. This program is an opportunity to c
 onnect\, practice self-care\, learn basic horsemanship\, and to be equippe
 d with healthy strategies to work through challenges we face in life. Lunc
 h is provided and there is no cost to attend. \n \nRSVP - send email to in
 fo@veteransclubinc.org.
DTSTART;TZID=America/New_York:20251122T100000
DTEND;TZID=America/New_York:20251122T140000
LOCATION:961 Russell Cave Road\, Paris\, KY 40361 US
SUMMARY:Equine Facilitated Mentoring - Paris KY
END:VEVENT
END:VCALENDAR
