BEGIN:VCALENDAR
VERSION:2.0
PRODID:-//veteransclubinc.org//NONSGML kigkonsult.se iCalcreator 2.30.10//
CALSCALE:GREGORIAN
METHOD:PUBLISH
UID:9062aef0-17e6-4152-b9d3-68785fca3bcb
X-WR-CALDESC:Join us on Saturday Aug 2 for our nationally recognized Equine
  Facilitated Mentoring Program. This program is an opportunity to connect\
 , practice self-care\, learn basic horsemanship\, and to be equipped with 
 healthy strategies to work through challenges we face in life. Lunch is pr
 ovided and there is no cost to attend. \n \nRSVP - send email to info@vete
 ransclubinc.org.
X-WR-RELCALID:871d101dbe68ed348d4e9bcc69625e49
X-WR-TIMEZONE:America/New_York
BEGIN:VTIMEZONE
TZID:America/New_York
BEGIN:STANDARD
TZNAME:EST
DTSTART:20241103T020000
TZOFFSETFROM:-0400
TZOFFSETTO:-0500
RDATE:20251102T020000
RDATE:20261101T020000
END:STANDARD
BEGIN:DAYLIGHT
TZNAME:EDT
DTSTART:20250309T020000
TZOFFSETFROM:-0500
TZOFFSETTO:-0400
RDATE:20260308T020000
END:DAYLIGHT
END:VTIMEZONE
BEGIN:VEVENT
UID:c847040d-d73a-4ad3-944b-9c15ee7e4e2e
DTSTAMP:20260421T143718Z
DESCRIPTION:Join us on Saturday Aug 2 for our nationally recognized Equine 
 Facilitated Mentoring Program. This program is an opportunity to connect\,
  practice self-care\, learn basic horsemanship\, and to be equipped with h
 ealthy strategies to work through challenges we face in life. Lunch is pro
 vided and there is no cost to attend. \n \nRSVP - send email to info@veter
 ansclubinc.org.
DTSTART;TZID=America/New_York:20250802T100000
DTEND;TZID=America/New_York:20250802T140000
LOCATION:961 Russell Cave Road\, Paris\, KY 40361 US
SUMMARY:Equine Facilitated Mentoring - Paris KY
END:VEVENT
END:VCALENDAR
