BEGIN:VCALENDAR
VERSION:2.0
PRODID:-//veteransclubinc.org//NONSGML kigkonsult.se iCalcreator 2.30.10//
CALSCALE:GREGORIAN
METHOD:PUBLISH
UID:682d8d75-f53d-4fee-8f11-bf048ca4c4fd
X-WR-CALDESC:We’re excited to launch a new Pickleball program just for vete
 rans\, first responders and their family members! Whether you’re brand new
  to the game or a seasoned player\, come join us for fun\, fellowship\, an
 d fitness. All equipment is provided\, and no experience is necessary — ju
 st bring your spirit and a willingness to play!\n\nNo cost to participate.
 \n \nSign up using QR code on flyer.
X-WR-RELCALID:97e6fffc66664254d125fdc28bafa6df
X-WR-TIMEZONE:America/New_York
BEGIN:VTIMEZONE
TZID:America/New_York
BEGIN:STANDARD
TZNAME:EST
DTSTART:20241103T020000
TZOFFSETFROM:-0400
TZOFFSETTO:-0500
RDATE:20251102T020000
RDATE:20261101T020000
END:STANDARD
BEGIN:DAYLIGHT
TZNAME:EDT
DTSTART:20250309T020000
TZOFFSETFROM:-0500
TZOFFSETTO:-0400
RDATE:20260308T020000
END:DAYLIGHT
END:VTIMEZONE
BEGIN:VEVENT
UID:9fc52d3c-5adf-49a0-b65e-b6d47d8f923d
DTSTAMP:20260421T162413Z
DESCRIPTION:We’re excited to launch a new Pickleball program just for veter
 ans\, first responders and their family members! Whether you’re brand new 
 to the game or a seasoned player\, come join us for fun\, fellowship\, and
  fitness. All equipment is provided\, and no experience is necessary — jus
 t bring your spirit and a willingness to play!\n\nNo cost to participate.
 \n \nSign up using QR code on flyer.
DTSTART;TZID=America/New_York:20250731T153000
DTEND;TZID=America/New_York:20250731T173000
LOCATION:4109 Simcoe Lane\, Louisville\, KY 40241 US
SUMMARY:Pickleball Group Play
END:VEVENT
END:VCALENDAR
