BEGIN:VCALENDAR
VERSION:2.0
PRODID:-//veteransclubinc.org//NONSGML kigkonsult.se iCalcreator 2.30.10//
CALSCALE:GREGORIAN
METHOD:PUBLISH
UID:b6c8638d-d7c7-4c44-a736-b1fe54059c2c
X-WR-CALDESC:Clean up your weapons\, grab your ammo\, bring your appetite a
 nd join us for our next Tacos and Targets event at Next Level Ranges.  We 
 will have a fun night of camaraderie and shooting while enjoying a great t
 aco bar from Brass Social. Look forward to seeing everyone there!\n \nRSVP
  - send email to info@veteransclubinc.org.
X-WR-RELCALID:111e24cc8edc1b83ba040b079a387cce
X-WR-TIMEZONE:America/New_York
BEGIN:VTIMEZONE
TZID:America/New_York
BEGIN:STANDARD
TZNAME:EST
DTSTART:20241103T020000
TZOFFSETFROM:-0400
TZOFFSETTO:-0500
RDATE:20251102T020000
RDATE:20261101T020000
END:STANDARD
BEGIN:DAYLIGHT
TZNAME:EDT
DTSTART:20250309T020000
TZOFFSETFROM:-0500
TZOFFSETTO:-0400
RDATE:20260308T020000
END:DAYLIGHT
END:VTIMEZONE
BEGIN:VEVENT
UID:49350848-9eeb-4060-900e-6232411662c8
DTSTAMP:20260421T162133Z
DESCRIPTION:Clean up your weapons\, grab your ammo\, bring your appetite an
 d join us for our next Tacos and Targets event at Next Level Ranges.  We w
 ill have a fun night of camaraderie and shooting while enjoying a great ta
 co bar from Brass Social. Look forward to seeing everyone there!\n \nRSVP 
 - send email to info@veteransclubinc.org.
DTSTART;TZID=America/New_York:20250729T180000
DTEND;TZID=America/New_York:20250729T193000
LOCATION:11800 Electron Drive\, Louisville\, KY 40299 US
SUMMARY:Targets and Tacos
END:VEVENT
END:VCALENDAR
