BEGIN:VCALENDAR
VERSION:2.0
PRODID:-//veteransclubinc.org//NONSGML kigkonsult.se iCalcreator 2.30.10//
CALSCALE:GREGORIAN
METHOD:PUBLISH
UID:ad373f78-d5cc-4f14-8c66-fa12e9983928
X-WR-CALDESC:We’re excited to launch a new Pickleball program just for vete
 rans\, first responders and their family members! Whether you’re brand new
  to the game or a seasoned player\, come join us for fun\, fellowship\, an
 d fitness. All equipment is provided\, and no experience is necessary — ju
 st bring your spirit and a willingness to play!\n\nNo cost to participate.
 \n \nSign up using QR code on flyer.
X-WR-RELCALID:d9f915a03e02c70134412af4dd672b77
X-WR-TIMEZONE:America/New_York
BEGIN:VTIMEZONE
TZID:America/New_York
BEGIN:STANDARD
TZNAME:EST
DTSTART:20241103T020000
TZOFFSETFROM:-0400
TZOFFSETTO:-0500
RDATE:20251102T020000
RDATE:20261101T020000
END:STANDARD
BEGIN:DAYLIGHT
TZNAME:EDT
DTSTART:20250309T020000
TZOFFSETFROM:-0500
TZOFFSETTO:-0400
RDATE:20260308T020000
END:DAYLIGHT
END:VTIMEZONE
BEGIN:VEVENT
UID:64ea81a6-ce68-4b28-acbd-4e67debf9118
DTSTAMP:20260421T162651Z
DESCRIPTION:We’re excited to launch a new Pickleball program just for veter
 ans\, first responders and their family members! Whether you’re brand new 
 to the game or a seasoned player\, come join us for fun\, fellowship\, and
  fitness. All equipment is provided\, and no experience is necessary — jus
 t bring your spirit and a willingness to play!\n\nNo cost to participate.
 \n \nSign up using QR code on flyer.
DTSTART;TZID=America/New_York:20250712T150000
DTEND;TZID=America/New_York:20250712T170000
LOCATION:Pickleball Euphoria - Springhurst\, 4109 Simcoe Lane\, Louisville\
 , KY 40241 US
SUMMARY:Pickleball Open Session
END:VEVENT
END:VCALENDAR
