BEGIN:VCALENDAR
VERSION:2.0
PRODID:-//veteransclubinc.org//NONSGML kigkonsult.se iCalcreator 2.30.10//
CALSCALE:GREGORIAN
METHOD:PUBLISH
UID:3c8b0733-3eca-47be-ac35-dfaf7907c038
X-WR-CALDESC:Join us on Saturday July 12th for our nationally recognized Eq
 uine Facilitated Mentoring Program. This program is an opportunity to conn
 ect\, practice self-care\, learn basic horsemanship\, and to be equipped w
 ith healthy strategies to work through challenges we face in life. Lunch i
 s provided and there is no cost to attend. \n \nRSVP - send email to info@
 veteransclubinc.org.
X-WR-RELCALID:4d66c6c838a3e79c20b7bbc7a4505170
X-WR-TIMEZONE:America/New_York
BEGIN:VTIMEZONE
TZID:America/New_York
BEGIN:STANDARD
TZNAME:EST
DTSTART:20241103T020000
TZOFFSETFROM:-0400
TZOFFSETTO:-0500
RDATE:20251102T020000
RDATE:20261101T020000
END:STANDARD
BEGIN:DAYLIGHT
TZNAME:EDT
DTSTART:20250309T020000
TZOFFSETFROM:-0500
TZOFFSETTO:-0400
RDATE:20260308T020000
END:DAYLIGHT
END:VTIMEZONE
BEGIN:VEVENT
UID:af52c788-2fd3-4b2e-a309-29e22bf24ccf
DTSTAMP:20260421T161831Z
DESCRIPTION:Join us on Saturday July 12th for our nationally recognized Equ
 ine Facilitated Mentoring Program. This program is an opportunity to conne
 ct\, practice self-care\, learn basic horsemanship\, and to be equipped wi
 th healthy strategies to work through challenges we face in life. Lunch is
  provided and there is no cost to attend. \n \nRSVP - send email to info@v
 eteransclubinc.org.
DTSTART;TZID=America/New_York:20250712T110000
DTEND;TZID=America/New_York:20250712T150000
LOCATION:375 Normandy Heights Rd\, Taylorsville \, KY 40071 US
SUMMARY:Equine Facilitated Mentoring Session - Taylorsville
END:VEVENT
END:VCALENDAR
