BEGIN:VCALENDAR
VERSION:2.0
PRODID:-//veteransclubinc.org//NONSGML kigkonsult.se iCalcreator 2.30.10//
CALSCALE:GREGORIAN
METHOD:PUBLISH
UID:3eab4302-42b7-4a85-b17f-1f4f5387359d
X-WR-CALDESC:Coffee & Camaraderie - Come join us for a cup of Black Rifle C
 offee and some great conversation. Open to all Veterans\, Active Service M
 embers and First Responders.
X-WR-RELCALID:77e6d7138a25af34c57f5a7a88c3dd5b
X-WR-TIMEZONE:America/New_York
BEGIN:VTIMEZONE
TZID:America/New_York
BEGIN:STANDARD
TZNAME:EST
DTSTART:20241103T020000
TZOFFSETFROM:-0400
TZOFFSETTO:-0500
RDATE:20251102T020000
RDATE:20261101T020000
END:STANDARD
BEGIN:DAYLIGHT
TZNAME:EDT
DTSTART:20250309T020000
TZOFFSETFROM:-0500
TZOFFSETTO:-0400
RDATE:20260308T020000
END:DAYLIGHT
END:VTIMEZONE
BEGIN:VEVENT
UID:314e12b0-ec50-4fc8-8105-19119378a9ce
DTSTAMP:20260421T180642Z
DESCRIPTION:Coffee & Camaraderie - Come join us for a cup of Black Rifle Co
 ffee and some great conversation. Open to all Veterans\, Active Service Me
 mbers and First Responders.
DTSTART;TZID=America/New_York:20250619T090000
DTEND;TZID=America/New_York:20250619T103000
LOCATION:4218 Shelbyville Road\, Louisville\, KY 40207 US
SUMMARY:Coffee and Camaraderie
END:VEVENT
END:VCALENDAR
