BEGIN:VCALENDAR
VERSION:2.0
PRODID:-//veteransclubinc.org//NONSGML kigkonsult.se iCalcreator 2.30.10//
CALSCALE:GREGORIAN
METHOD:PUBLISH
UID:ec259a04-7f0a-4c1e-b9c5-d09a0c42c1aa
X-WR-CALDESC:Join us on Saturday May 24th for our nationally recognized Equ
 ine Facilitated Mentoring Program. This program is an opportunity to conne
 ct\, practice self-care\, learn basic horsemanship\, and to be equipped wi
 th healthy strategies to work through challenges we face in life. Lunch is
  provided and there is no cost to attend.
X-WR-RELCALID:3bed742e9ec0fec877af4eab534b4aa2
X-WR-TIMEZONE:America/New_York
BEGIN:VTIMEZONE
TZID:America/New_York
BEGIN:STANDARD
TZNAME:EST
DTSTART:20241103T020000
TZOFFSETFROM:-0400
TZOFFSETTO:-0500
RDATE:20251102T020000
RDATE:20261101T020000
END:STANDARD
BEGIN:DAYLIGHT
TZNAME:EDT
DTSTART:20250309T020000
TZOFFSETFROM:-0500
TZOFFSETTO:-0400
RDATE:20260308T020000
END:DAYLIGHT
END:VTIMEZONE
BEGIN:VEVENT
UID:7080849c-d97b-4254-8ffe-45752ead4f25
DTSTAMP:20260421T194059Z
DESCRIPTION:Join us on Saturday May 24th for our nationally recognized Equi
 ne Facilitated Mentoring Program. This program is an opportunity to connec
 t\, practice self-care\, learn basic horsemanship\, and to be equipped wit
 h healthy strategies to work through challenges we face in life. Lunch is 
 provided and there is no cost to attend.
DTSTART;TZID=America/New_York:20250524T110000
DTEND;TZID=America/New_York:20250524T150000
LOCATION:375 Normandy Heights Rd\, Taylorsville\, KY 40207 US
SUMMARY:Equine Facilitated Mentoring - Taylorsville
END:VEVENT
END:VCALENDAR
