BEGIN:VCALENDAR
VERSION:2.0
PRODID:-//veteransclubinc.org//NONSGML kigkonsult.se iCalcreator 2.30.10//
CALSCALE:GREGORIAN
METHOD:PUBLISH
UID:5fa2e02b-2fbe-4ef4-b171-52351d490857
X-WR-CALDESC:Join us on Saturday May 10th for our nationally recognized Equ
 ine Facilitated Mentoring Program. This program is an opportunity to conne
 ct\, practice self-care\, learn basic horsemanship\, and to be equipped wi
 th healthy strategies to work through challenges we face in life. Lunch is
  provided and there is no cost to attend.
X-WR-RELCALID:0ba43c49e26cad71754d829c74083f9f
X-WR-TIMEZONE:America/New_York
BEGIN:VTIMEZONE
TZID:America/New_York
BEGIN:STANDARD
TZNAME:EST
DTSTART:20241103T020000
TZOFFSETFROM:-0400
TZOFFSETTO:-0500
RDATE:20251102T020000
RDATE:20261101T020000
END:STANDARD
BEGIN:DAYLIGHT
TZNAME:EDT
DTSTART:20250309T020000
TZOFFSETFROM:-0500
TZOFFSETTO:-0400
RDATE:20260308T020000
END:DAYLIGHT
END:VTIMEZONE
BEGIN:VEVENT
UID:2b06e3cd-723c-4594-a120-de1d8cd23c92
DTSTAMP:20260421T195259Z
DESCRIPTION:Join us on Saturday May 10th for our nationally recognized Equi
 ne Facilitated Mentoring Program. This program is an opportunity to connec
 t\, practice self-care\, learn basic horsemanship\, and to be equipped wit
 h healthy strategies to work through challenges we face in life. Lunch is 
 provided and there is no cost to attend.
DTSTART;TZID=America/New_York:20250510T100000
DTEND;TZID=America/New_York:20250510T140000
LOCATION:961 Russell Cave Rd\, Paris\, KY 40361 US
SUMMARY:Equine Facilitated Mentoring - Paris KY
END:VEVENT
END:VCALENDAR
