BEGIN:VCALENDAR
VERSION:2.0
PRODID:-//veteransclubinc.org//NONSGML kigkonsult.se iCalcreator 2.30.10//
CALSCALE:GREGORIAN
METHOD:PUBLISH
UID:1c0d76b6-3618-4932-9c04-2c87ac9a6c34
X-WR-CALDESC:Coffee & Camaraderie - Come join us for a cup of Black Rifle C
 offee and some great conversation. Open to all Veterans\, Active Service M
 embers and First Responders.
X-WR-RELCALID:6ec78821362a424e7affd027eb93df03
X-WR-TIMEZONE:America/New_York
BEGIN:VTIMEZONE
TZID:America/New_York
BEGIN:STANDARD
TZNAME:EST
DTSTART:20251102T020000
TZOFFSETFROM:-0400
TZOFFSETTO:-0500
RDATE:20261101T020000
RDATE:20271107T020000
END:STANDARD
BEGIN:DAYLIGHT
TZNAME:EDT
DTSTART:20260308T020000
TZOFFSETFROM:-0500
TZOFFSETTO:-0400
RDATE:20270314T020000
END:DAYLIGHT
END:VTIMEZONE
BEGIN:VEVENT
UID:3e68ff78-e242-4f1d-b863-b764597e3ee7
DTSTAMP:20260420T103750Z
DESCRIPTION:Coffee & Camaraderie - Come join us for a cup of Black Rifle Co
 ffee and some great conversation. Open to all Veterans\, Active Service Me
 mbers and First Responders.
DTSTART;TZID=America/New_York:20260618T090000
DTEND;TZID=America/New_York:20260618T103000
LOCATION:4218 Shelbyville Road\, Louisville\, KY 40207 US
SUMMARY:Coffee and Camaraderie
END:VEVENT
END:VCALENDAR
